BEGIN:VCALENDAR
VERSION:2.0
PRODID:-//Security Institute - ECPv6.8.3//NONSGML v1.0//EN
CALSCALE:GREGORIAN
METHOD:PUBLISH
X-WR-CALNAME:Security Institute
X-ORIGINAL-URL:https://www.security-institute.org
X-WR-CALDESC:Events for Security Institute
REFRESH-INTERVAL;VALUE=DURATION:PT1H
X-Robots-Tag:noindex
X-PUBLISHED-TTL:PT1H
BEGIN:VTIMEZONE
TZID:UTC
BEGIN:STANDARD
TZOFFSETFROM:+0000
TZOFFSETTO:+0000
TZNAME:UTC
DTSTART:20260101T000000
END:STANDARD
END:VTIMEZONE
BEGIN:VEVENT
DTSTART;VALUE=DATE:20260112
DTEND;VALUE=DATE:20260115
DTSTAMP:20260425T021442
CREATED:20241210T100004Z
LAST-MODIFIED:20251112T095848Z
UID:50769-1768176000-1768435199@www.security-institute.org
SUMMARY:Intersec Dubai 2026
DESCRIPTION:Date: Monday 12th – Wednesday 14th of January 2026 \nLocation: Dubai World Trade Centre \nIntersec Dubai is the world’s leading exhibition for the security\, safety and fire protection industries. Taking place from 12 to 14 January 2026 at the Dubai World Trade Centre\, the event brings together global manufacturers\, suppliers\, and industry professionals to showcase the latest technologies\, products and solutions shaping the future of security and resilience. \nCovering five key sectors – commercial and perimeter security\, homeland security and policing\, fire and rescue\, safety and health\, and cyber security – Intersec offers a comprehensive view of innovation and best practice across the entire safety ecosystem. Visitors can experience live demonstrations\, explore new product launches and engage directly with industry experts and decision-makers. \nThe exhibition also features a strong programme of conferences and forums that address critical topics such as digital transformation\, sustainability\, emergency response and cybersecurity. These sessions provide valuable insights and promote dialogue on the most pressing challenges and opportunities facing the industry. \nWith participants from across the globe\, Intersec Dubai serves as a vital meeting point for collaboration\, knowledge exchange and business development\, fostering connections that drive progress and strengthen safety and security worldwide. \nAt this prestigious event\, The Security Institute will be hosting a panel and Q&A session discussing all the latest developments and our ongoing partnerships in the Middle East region and beyond: we can’t wait to see you there! \n 
URL:https://www.security-institute.org/company-event/intersec-dubai-2026/
LOCATION:Dubai World Trade Centre\, Sheikh Zayed Rd - Trade Centre - Trade Centre 2\, Dubai\, Dubai\, United Arab Emirates
CATEGORIES:Partner Events
ATTACH;FMTTYPE=image/png:https://www.security-institute.org/wp-content/uploads/2024/12/Dubai3-e1741014853853.png
END:VEVENT
BEGIN:VEVENT
DTSTART;TZID=UTC:20260115T120000
DTEND;TZID=UTC:20260115T130000
DTSTAMP:20260425T021442
CREATED:20260108T104156Z
LAST-MODIFIED:20260108T104228Z
UID:60293-1768478400-1768482000@www.security-institute.org
SUMMARY:FLOSIG Webinar - 'The First Contact – CBRNE and the Frontline'
DESCRIPTION: ‘The First Contact – CBRNE and the Frontline’\nEvent Overview \nRecognising\, Assessing and Reacting to Hazardous Substances. \nFrom acid attacks and chlorine leaks to deliberate chemical releases\, incidents involving hazardous substances are becoming increasingly common. Whether accidental or malicious\, these events present serious risks to responders\, healthcare staff\, and the public. Would you and your team know how to recognise the danger signs and respond safely and effectively? \nSpeaker \nThis webinar is delivered by Carl Cooper\, a highly experienced Tactical Incident Commander with over 20 years’ service in an NHS Ambulance Trust\, responding to significant and complex incidents across the West Midlands conurbation. Carl brings extensive operational and strategic expertise\, supported by advanced qualifications including an MSc in Emergency Planning\, Resilience and Response (Distinction). He has completed specialist training in CBRN\, NILO\, JESIP\, NARU/ECU\, multi-agency command (Gold and Strategic levels)\, radiation protection\, and flood and water incident management. Carl is also a Director at Prepare Plan Protect\, specialists in emergency planning. \nThe session will focus on helping attendees to: \n\nRecognise potential chemical\, biological and radiological hazards\nAssess risks quickly and proportionately in dynamic environments\nReact safely and effectively to protect themselves\, colleagues\, and patients\n\nDesigned for those who may encounter hazardous substance incidents as part of their role\, this webinar aims to improve situational awareness\, decision-making\, and safety\, ultimately supporting better outcomes for patients and responders alike. \n** Open to Members & Non Members **  \nPlaces are limited. Book now to secure your place and ensure you and your team are prepared to respond safely and effectively to hazardous substance incidents. \nBook Now 
URL:https://www.security-institute.org/company-event/flosig-webinar-stagnation-is-not-an-option/
CATEGORIES:Security Institute Events,Webinars
ATTACH;FMTTYPE=image/png:https://www.security-institute.org/wp-content/uploads/2026/01/FLOSIG-WEBINAR-15.01-1-1.png
END:VEVENT
BEGIN:VEVENT
DTSTART;TZID=UTC:20260127T140000
DTEND;TZID=UTC:20260127T150000
DTSTAMP:20260425T021442
CREATED:20250514T152617Z
LAST-MODIFIED:20260121T092002Z
UID:55773-1769522400-1769526000@www.security-institute.org
SUMMARY:Catch Up with the CEO!
DESCRIPTION:Catch Up with the CEO – Monthly Member Forum (2026 Series) \n📅 Date: Tuesday 27th January 2026🕑 Time: 14:00 – 15:00 GMT💻 Format: Online via Microsoft Teams \nJoin us for our monthly Catch Up with the CEO sessions\, launching in January 2026. These online forums provide a regular opportunity for members to connect directly with the CEO\, ask questions\, share feedback\, and contribute to the ongoing development of the Institute and its membership community. \nThis is your space to engage\, influence\, and be heard. \nNo booking required – simply join using the Teams link at the scheduled time and take part in the conversation. \nWe look forward to welcoming you and hearing your views. \n  \n  \n 
URL:https://www.security-institute.org/company-event/catch-up-with-the-ceo/
CATEGORIES:Security Institute Events,Webinars
ATTACH;FMTTYPE=image/png:https://www.security-institute.org/wp-content/uploads/2025/05/Catch-Up-With-the-CEO-3.png
END:VEVENT
END:VCALENDAR