BEGIN:VCALENDAR
VERSION:2.0
PRODID:-//Security Institute - ECPv6.8.3//NONSGML v1.0//EN
CALSCALE:GREGORIAN
METHOD:PUBLISH
X-ORIGINAL-URL:https://www.security-institute.org
X-WR-CALDESC:Events for Security Institute
REFRESH-INTERVAL;VALUE=DURATION:PT1H
X-Robots-Tag:noindex
X-PUBLISHED-TTL:PT1H
BEGIN:VTIMEZONE
TZID:UTC
BEGIN:STANDARD
TZOFFSETFROM:+0000
TZOFFSETTO:+0000
TZNAME:UTC
DTSTART:20250101T000000
END:STANDARD
END:VTIMEZONE
BEGIN:VEVENT
DTSTART;TZID=UTC:20251201T180000
DTEND;TZID=UTC:20251201T233000
DTSTAMP:20260425T010007
CREATED:20251111T153909Z
LAST-MODIFIED:20251111T153938Z
UID:59275-1764612000-1764631800@www.security-institute.org
SUMMARY:Security & Fire Awards for Excellence 2025
DESCRIPTION:Date: Monday 1st of December 2025 \nLocation: JW Marriott Grosvenor House\, Park Lane\, London \n\n\n\nCelebrate the very best in the security and fire sectors at this year’s signature awards evening. On Monday 1 December 2025\, leading professionals will gather at JW Marriott Grosvenor House\, Park Lane\, London for a prestigious night of recognition\, networking\, and celebration. \nThis marquee event honours outstanding people\, projects\, and processes driving innovation and excellence across our industries. It’s more than a ceremony—it’s a unique chance to recognise your teams\, raise your brand profile\, build key connections\, and conclude the year in style. \nTables are in high demand—secure yours early to be at the heart of the industry’s most distinguished night. \n\n\n\n\n  \n 
URL:https://www.security-institute.org/company-event/security-fire-awards-for-excellence-2025/
LOCATION:JW Marriott Grosvenor House\, 86-90 Park Lane\, London\, Greater London\, W1K 7TN\, United Kingdom
CATEGORIES:Partner Events
ATTACH;FMTTYPE=image/jpeg:https://www.security-institute.org/wp-content/uploads/2025/11/DOB_1829.jpg
END:VEVENT
BEGIN:VEVENT
DTSTART;TZID=UTC:20251216T130000
DTEND;TZID=UTC:20251216T140000
DTSTAMP:20260425T010007
CREATED:20251210T133323Z
LAST-MODIFIED:20251215T113031Z
UID:59946-1765890000-1765893600@www.security-institute.org
SUMMARY:FLOSIG Webinar - Stagnation is Not an Option
DESCRIPTION:”Stagnation is Not an Option” \nDate: 16 December 2025\nTime: 13:00–14:00 GMT | 08:00–09:00 EST\nHosted by: The Security Institute’s Frontline Operators Special Interest Group (FLOSIG) \nThe Security Institute’s Frontline Operators Special Interest Group (FLOSIG) invites you to an inspiring and practical webinar exploring the vital importance of continuous learning and career progression within the security profession. \n“Stagnation is Not an Option” brings together two accomplished security leaders — Shy Royal and Ryan Crice — who will share their personal journeys from frontline security operations into influential leadership and managerial roles. \nDrawing on real-world experience and candid insight\, Shy and Ryan will explore how professional development\, adaptability\, and seizing growth opportunities can shape long-term success in today’s fast-evolving security landscape. Attendees will gain practical guidance on navigating career transitions\, avoiding professional plateaus\, and thriving within the dynamic demands of the security sector. \nThis webinar is open to all security professionals\, not just SyI members. Whether you are currently working on the frontline\, aspiring to leadership\, or seeking renewed motivation in your professional development\, this session offers inspiration and actionable advice from two of the industry’s emerging leaders. \nSpeakers: \nShy Royal \nData Center Security Manager (DSM)\nAmazon Web Services (AWS) \nShy Royal brings over 15 years of physical security experience spanning private\, government\, and data center environments. She currently manages physical security operations and new-build construction for AWS Data Centers in Maryland. Shy holds a Bachelor of Science in Business Management and multiple security certifications and is actively pursuing PMP and ASIS PSP credentials. Passionate about professional growth and knowledge sharing\, she continues to expand her expertise within the security field. Outside of work\, Shy enjoys reading\, streaming entertainment\, motorcycle riding with friends\, and podcasting. \nRyan Crice \nCorporate Protection Manager\nGlobal Guardian \nRyan Crice is a contractor with Global Guardian\, serving as Corporate Protection Manager for a company based in Washington\, DC. In his role\, he coordinates security operations and logistical support between his employer and client security leadership. Ryan brings over 20 years of combined experience across military\, law enforcement\, contract\, and corporate security sectors and is a certified security instructor in Virginia. He holds a Bachelor of Science in Criminal Justice and a Master of Arts in International Security. Outside of work\, Ryan enjoys reading Puritan literature\, exploring lightly traveled historical sites with his wife\, Dévora\, and practicing environmentally conscious composting. \n*There is no booking page for this event. Attendance is open to all — simply join via the Microsoft Teams link below at the scheduled time.*
URL:https://www.security-institute.org/company-event/flosig-webinar/
CATEGORIES:Security Institute Events,Webinars
ATTACH;FMTTYPE=image/png:https://www.security-institute.org/wp-content/uploads/2025/12/FLOSIG-WEBINAR-16.12-e1765373831996.png
END:VEVENT
BEGIN:VEVENT
DTSTART;TZID=UTC:20251217T160000
DTEND;TZID=UTC:20251217T210000
DTSTAMP:20260425T010007
CREATED:20250923T120006Z
LAST-MODIFIED:20251010T083758Z
UID:57723-1765987200-1766005200@www.security-institute.org
SUMMARY:The Security Institute Winter Social
DESCRIPTION:Date: Wednesday 17th December 2025 \nLocation: The Wellington\, 351 Strand\, Greater\, London WC2R 0HS \nDress Code : Smart casual… but make it festive! \nThis is your chance to add some festive flair — jumpers\, sparkles\, or anything that spreads a bit of holiday joy are more than welcome! \n🎄About this event…  \nJoin us for a festive evening of good company\, great food\, and plenty of holiday cheer as we round off the year together at The Wellington\, a classic historical pub located on The Strand in London. \nThis relaxed and sociable event is a wonderful opportunity for members to network with fellow professionals\, connect with Institute staff and Directors\, and celebrate the successes of the year gone by. Enjoy a friendly atmosphere\, delicious food\, and seasonal drinks as we toast to the year ahead. \n🕒 Agenda \n16:00 – Registration & Welcome Drinks (includes one complimentary drink) \n18:00 – Buffet-style food served \n18:30 – Open Networking \n21:00 – Event Close \nIf you are interested in sponsoring this event\, please reach out to events@security-institute.org. \nBOOK NOW  \nWe look forward to celebrating the season with you.
URL:https://www.security-institute.org/company-event/security-institute-winter-social-2025/
LOCATION:The Wellington\, 351 The Strand\, London\, WC2R 0HS\, United Kingdom
CATEGORIES:In Person Events,Security Institute Events
ATTACH;FMTTYPE=image/jpeg:https://www.security-institute.org/wp-content/uploads/2025/09/AdobeStock_298856453-scaled.jpeg
END:VEVENT
END:VCALENDAR