BEGIN:VCALENDAR
VERSION:2.0
PRODID:-//Security Institute - ECPv6.8.3//NONSGML v1.0//EN
CALSCALE:GREGORIAN
METHOD:PUBLISH
X-ORIGINAL-URL:https://www.security-institute.org
X-WR-CALDESC:Events for Security Institute
REFRESH-INTERVAL;VALUE=DURATION:PT1H
X-Robots-Tag:noindex
X-PUBLISHED-TTL:PT1H
BEGIN:VTIMEZONE
TZID:UTC
BEGIN:STANDARD
TZOFFSETFROM:+0000
TZOFFSETTO:+0000
TZNAME:UTC
DTSTART:20250101T000000
END:STANDARD
END:VTIMEZONE
BEGIN:VEVENT
DTSTART;TZID=UTC:20251015T093000
DTEND;TZID=UTC:20251015T173000
DTSTAMP:20260424T233349
CREATED:20250211T133301Z
LAST-MODIFIED:20250902T084632Z
UID:53702-1760520600-1760549400@www.security-institute.org
SUMMARY:The Security Institute Annual Conference 2025
DESCRIPTION:Date: 15th October 2025 \nLocation: Andaz London Liverpool Street. \nThis year marks a remarkable milestone – 25 years of building\, learning\, and leading together. Our 2025 Annual Conference will take you on a journey through The Past\, The Present\, and The Future\, exploring the pivotal moments that have shaped our community and the security sector. \nAcross a series of dynamic sessions\, we’ll revisit world events – from technological revolutions to global crises – that have influenced how we work\, connect\, and protect. Expert speakers and diverse panels will unpack what we’ve learned\, how we’ve adapted\, and where we must focus next. \nExpect thought-provoking discussion\, fresh perspectives from emerging voices\, and a forward-looking final session charting the challenges and opportunities ahead. Between sessions\, immerse yourself in our interactive timeline of defining events\, weaving together personal stories\, sector milestones\, and global shifts. \nWhether you’ve been part of the journey from the start or are joining us for the first time\, this conference is your chance to reflect\, engage\, and help shape the next chapter in our story. \nEarly Bird Tickets Available until 31/08/2025. \nFurther agenda details coming soon. 
URL:https://www.security-institute.org/company-event/the-security-institute-annual-conference-2025/
LOCATION:Andaz London Liverpool Street\, 40 Liverpool Street\, London\, EC2M 7QN\, United Kingdom
CATEGORIES:In Person Events,Security Institute Events
ATTACH;FMTTYPE=image/png:https://www.security-institute.org/wp-content/uploads/2025/02/HRH-at-Conference-Edit4-1.png
END:VEVENT
END:VCALENDAR